BEGIN:VCALENDAR
VERSION:2.0
PRODID:-//A Touch of Understanding - ECPv6.15.20//NONSGML v1.0//EN
CALSCALE:GREGORIAN
METHOD:PUBLISH
X-WR-CALNAME:A Touch of Understanding
X-ORIGINAL-URL:https://touchofunderstanding.org
X-WR-CALDESC:Events for A Touch of Understanding
REFRESH-INTERVAL;VALUE=DURATION:PT1H
X-Robots-Tag:noindex
X-PUBLISHED-TTL:PT1H
BEGIN:VTIMEZONE
TZID:America/Los_Angeles
BEGIN:DAYLIGHT
TZOFFSETFROM:-0800
TZOFFSETTO:-0700
TZNAME:PDT
DTSTART:20230312T100000
END:DAYLIGHT
BEGIN:STANDARD
TZOFFSETFROM:-0700
TZOFFSETTO:-0800
TZNAME:PST
DTSTART:20231105T090000
END:STANDARD
BEGIN:DAYLIGHT
TZOFFSETFROM:-0800
TZOFFSETTO:-0700
TZNAME:PDT
DTSTART:20240310T100000
END:DAYLIGHT
BEGIN:STANDARD
TZOFFSETFROM:-0700
TZOFFSETTO:-0800
TZNAME:PST
DTSTART:20241103T090000
END:STANDARD
BEGIN:DAYLIGHT
TZOFFSETFROM:-0800
TZOFFSETTO:-0700
TZNAME:PDT
DTSTART:20250309T100000
END:DAYLIGHT
BEGIN:STANDARD
TZOFFSETFROM:-0700
TZOFFSETTO:-0800
TZNAME:PST
DTSTART:20251102T090000
END:STANDARD
END:VTIMEZONE
BEGIN:VTIMEZONE
TZID:America/Los_Angeles
BEGIN:DAYLIGHT
TZOFFSETFROM:-0800
TZOFFSETTO:-0700
TZNAME:PDT
DTSTART:20230312T100000
END:DAYLIGHT
BEGIN:STANDARD
TZOFFSETFROM:-0700
TZOFFSETTO:-0800
TZNAME:PST
DTSTART:20231105T090000
END:STANDARD
BEGIN:DAYLIGHT
TZOFFSETFROM:-0800
TZOFFSETTO:-0700
TZNAME:PDT
DTSTART:20240310T100000
END:DAYLIGHT
BEGIN:STANDARD
TZOFFSETFROM:-0700
TZOFFSETTO:-0800
TZNAME:PST
DTSTART:20241103T090000
END:STANDARD
BEGIN:DAYLIGHT
TZOFFSETFROM:-0800
TZOFFSETTO:-0700
TZNAME:PDT
DTSTART:20250309T100000
END:DAYLIGHT
BEGIN:STANDARD
TZOFFSETFROM:-0700
TZOFFSETTO:-0800
TZNAME:PST
DTSTART:20251102T090000
END:STANDARD
END:VTIMEZONE
BEGIN:VEVENT
DTSTART;VALUE=DATE:20240402
DTEND;VALUE=DATE:20240403
DTSTAMP:20260422T134854
CREATED:20230419T084405Z
LAST-MODIFIED:20230612T135801Z
UID:5210-1712016000-1712102399@touchofunderstanding.org
SUMMARY:Willett Elementary (Davis)
DESCRIPTION:
URL:https://touchofunderstanding.org/cal/willett-elementary-davis/
LOCATION:1207 Sycamore Ln\, Davis\, CA 95616\, USA\, 1207 Sycamore Ln\, Davis\, CA\, 95616\, United States
END:VEVENT
BEGIN:VEVENT
DTSTART;VALUE=DATE:20240403
DTEND;VALUE=DATE:20240404
DTSTAMP:20260422T134854
CREATED:20230503T102719Z
LAST-MODIFIED:20230612T135801Z
UID:5338-1712102400-1712188799@touchofunderstanding.org
SUMMARY:Greenhills Elementary
DESCRIPTION:
URL:https://touchofunderstanding.org/cal/greenhills-elementary-7/
LOCATION:8200 Greenhills Way\, Granite Bay\, CA 95746\, USA
END:VEVENT
BEGIN:VEVENT
DTSTART;VALUE=DATE:20240404
DTEND;VALUE=DATE:20240405
DTSTAMP:20260422T134854
CREATED:20230428T095945Z
LAST-MODIFIED:20230612T135801Z
UID:5316-1712188800-1712275199@touchofunderstanding.org
SUMMARY:Indian Creek Elementary
DESCRIPTION:
URL:https://touchofunderstanding.org/cal/indian-creek-elementary-3/
LOCATION:6701 Green Valley Rd\, Placerville\, CA 95667\, USA
END:VEVENT
BEGIN:VEVENT
DTSTART;TZID=America/Los_Angeles:20240404T180000
DTEND;TZID=America/Los_Angeles:20240404T213000
DTSTAMP:20260422T134854
CREATED:20230324T180126Z
LAST-MODIFIED:20231220T194429Z
UID:4996-1712253600-1712266200@touchofunderstanding.org
SUMMARY:Evening of Insight 2024
DESCRIPTION:GET YOUR TICKETS NOW!\nEnjoy an evening with friends exploring what it might be like to “walk in someone else’s shoes.”
URL:https://touchofunderstanding.org/cal/evening-of-insight-2024/
CATEGORIES:non workshop
END:VEVENT
BEGIN:VEVENT
DTSTART;VALUE=DATE:20240409
DTEND;VALUE=DATE:20240410
DTSTAMP:20260422T134854
CREATED:20230325T054406Z
LAST-MODIFIED:20230612T135801Z
UID:5034-1712620800-1712707199@touchofunderstanding.org
SUMMARY:Natomas Charter School
DESCRIPTION:
URL:https://touchofunderstanding.org/cal/natomas-charter-school-7/
LOCATION:4004 Gloster Way\, Sacramento\, CA 95834\, USA
END:VEVENT
BEGIN:VEVENT
DTSTART;VALUE=DATE:20240410
DTEND;VALUE=DATE:20240411
DTSTAMP:20260422T134854
CREATED:20230325T054406Z
LAST-MODIFIED:20230612T135801Z
UID:5033-1712707200-1712793599@touchofunderstanding.org
SUMMARY:St. Michael's Episcopal Day School
DESCRIPTION:
URL:https://touchofunderstanding.org/cal/st-michaels-episcopal-day-school/
LOCATION:2140 Mission Ave\, Carmichael\, CA 95608\, USA
END:VEVENT
BEGIN:VEVENT
DTSTART;VALUE=DATE:20240411
DTEND;VALUE=DATE:20240412
DTSTAMP:20260422T134854
CREATED:20230329T062722Z
LAST-MODIFIED:20230612T135801Z
UID:5048-1712793600-1712879999@touchofunderstanding.org
SUMMARY:Jefferson Elementary
DESCRIPTION:
URL:https://touchofunderstanding.org/cal/jefferson-elementary/
LOCATION:2001 Pebblewood Dr\nSacramento\, CA\, United States
END:VEVENT
BEGIN:VEVENT
DTSTART;VALUE=DATE:20240416
DTEND;VALUE=DATE:20240417
DTSTAMP:20260422T134854
CREATED:20230307T042716Z
LAST-MODIFIED:20230612T135801Z
UID:4928-1713225600-1713311999@touchofunderstanding.org
SUMMARY:Quail Glen Elementary ( Roseville)
DESCRIPTION:
URL:https://touchofunderstanding.org/cal/quail-glen-elementary-roseville/
LOCATION:1250 Canevari Dr\, Roseville\, CA 95747\, USA\, 1250 Canevari Dr\, Roseville\, CA\, 95747\, United States
END:VEVENT
BEGIN:VEVENT
DTSTART;VALUE=DATE:20240417
DTEND;VALUE=DATE:20240418
DTSTAMP:20260422T134854
CREATED:20230327T060934Z
LAST-MODIFIED:20230612T135801Z
UID:5040-1713312000-1713398399@touchofunderstanding.org
SUMMARY:Camino School
DESCRIPTION:
URL:https://touchofunderstanding.org/cal/camino-school/
END:VEVENT
BEGIN:VEVENT
DTSTART;VALUE=DATE:20240418
DTEND;VALUE=DATE:20240419
DTSTAMP:20260422T134854
CREATED:20230429T101207Z
LAST-MODIFIED:20230612T135801Z
UID:5324-1713398400-1713484799@touchofunderstanding.org
SUMMARY:Delta Elementary Charter School
DESCRIPTION:
URL:https://touchofunderstanding.org/cal/delta-elementary-charter-school/
LOCATION:North School Street\, N School St\, Clarksburg\, CA 95612\, USA
END:VEVENT
BEGIN:VEVENT
DTSTART;VALUE=DATE:20240423
DTEND;VALUE=DATE:20240424
DTSTAMP:20260422T134854
CREATED:20230405T071038Z
LAST-MODIFIED:20230612T135801Z
UID:5109-1713830400-1713916799@touchofunderstanding.org
SUMMARY:Witter Ranch Elementary
DESCRIPTION:
URL:https://touchofunderstanding.org/cal/witter-ranch-elementary/
LOCATION:3790 Poppy Hill Way\, Sacramento\, CA 95834\, USA
END:VEVENT
BEGIN:VEVENT
DTSTART;VALUE=DATE:20240424
DTEND;VALUE=DATE:20240425
DTSTAMP:20260422T134854
CREATED:20230503T102720Z
LAST-MODIFIED:20230612T135801Z
UID:5339-1713916800-1714003199@touchofunderstanding.org
SUMMARY:Dudley Elementary
DESCRIPTION:
URL:https://touchofunderstanding.org/cal/dudley-elementary-7/
LOCATION:8000 Aztec Way\, Antelope\, CA 95843\, USA
END:VEVENT
BEGIN:VEVENT
DTSTART;VALUE=DATE:20240425
DTEND;VALUE=DATE:20240426
DTSTAMP:20260422T134854
CREATED:20230503T102720Z
LAST-MODIFIED:20230612T135801Z
UID:5340-1714003200-1714089599@touchofunderstanding.org
SUMMARY:Oak Hill Elementary
DESCRIPTION:
URL:https://touchofunderstanding.org/cal/oak-hill-elementary-3/
LOCATION:3909 N Loop Blvd\nAntelope\, CA\, United States
END:VEVENT
BEGIN:VEVENT
DTSTART;VALUE=DATE:20240430
DTEND;VALUE=DATE:20240501
DTSTAMP:20260422T134854
CREATED:20230504T102617Z
LAST-MODIFIED:20230612T135802Z
UID:5347-1714435200-1714521599@touchofunderstanding.org
SUMMARY:Cordova Villa Elementary
DESCRIPTION:
URL:https://touchofunderstanding.org/cal/cordova-villa-elementary-8/
LOCATION:10359 S White Rock Rd\, Rancho Cordova\, CA 95670\, USA\, 10359 S White Rock Rd\, Rancho Cordova\, CA\, 95670\, United States
END:VEVENT
END:VCALENDAR