BEGIN:VCALENDAR
VERSION:2.0
PRODID:-//A Touch of Understanding - ECPv6.15.20//NONSGML v1.0//EN
CALSCALE:GREGORIAN
METHOD:PUBLISH
X-ORIGINAL-URL:https://touchofunderstanding.org
X-WR-CALDESC:Events for A Touch of Understanding
REFRESH-INTERVAL;VALUE=DURATION:PT1H
X-Robots-Tag:noindex
X-PUBLISHED-TTL:PT1H
BEGIN:VTIMEZONE
TZID:America/Los_Angeles
BEGIN:DAYLIGHT
TZOFFSETFROM:-0800
TZOFFSETTO:-0700
TZNAME:PDT
DTSTART:20230312T100000
END:DAYLIGHT
BEGIN:STANDARD
TZOFFSETFROM:-0700
TZOFFSETTO:-0800
TZNAME:PST
DTSTART:20231105T090000
END:STANDARD
BEGIN:DAYLIGHT
TZOFFSETFROM:-0800
TZOFFSETTO:-0700
TZNAME:PDT
DTSTART:20240310T100000
END:DAYLIGHT
BEGIN:STANDARD
TZOFFSETFROM:-0700
TZOFFSETTO:-0800
TZNAME:PST
DTSTART:20241103T090000
END:STANDARD
BEGIN:DAYLIGHT
TZOFFSETFROM:-0800
TZOFFSETTO:-0700
TZNAME:PDT
DTSTART:20250309T100000
END:DAYLIGHT
BEGIN:STANDARD
TZOFFSETFROM:-0700
TZOFFSETTO:-0800
TZNAME:PST
DTSTART:20251102T090000
END:STANDARD
END:VTIMEZONE
BEGIN:VEVENT
DTSTART;VALUE=DATE:20241003
DTEND;VALUE=DATE:20241004
DTSTAMP:20260422T033654
CREATED:20230601T123004Z
LAST-MODIFIED:20230612T135803Z
UID:5412-1727913600-1727999999@touchofunderstanding.org
SUMMARY:Diamond Creek Elementary
DESCRIPTION:
URL:https://touchofunderstanding.org/cal/diamond-creek-elementary-8/
LOCATION:3151 Hopscotch Way\, Roseville\, CA 95747\, USA
END:VEVENT
BEGIN:VEVENT
DTSTART;VALUE=DATE:20241004
DTEND;VALUE=DATE:20241005
DTSTAMP:20260422T033654
CREATED:20230601T123004Z
LAST-MODIFIED:20230612T135803Z
UID:5411-1728000000-1728086399@touchofunderstanding.org
SUMMARY:Junction Elementary
DESCRIPTION:
URL:https://touchofunderstanding.org/cal/junction-elementary-8/
LOCATION:2150 Ellison Dr\, Roseville\, CA 95747\, USA
END:VEVENT
END:VCALENDAR